BEGIN:VCALENDAR
VERSION:2.0
PRODID:-//Rose Run Presbyterian Church - ECPv6.15.17.1//NONSGML v1.0//EN
CALSCALE:GREGORIAN
METHOD:PUBLISH
X-WR-CALNAME:Rose Run Presbyterian Church
X-ORIGINAL-URL:https://www.roserunpresbyterian.org
X-WR-CALDESC:Events for Rose Run Presbyterian Church
REFRESH-INTERVAL;VALUE=DURATION:PT1H
X-Robots-Tag:noindex
X-PUBLISHED-TTL:PT1H
BEGIN:VTIMEZONE
TZID:UTC
BEGIN:STANDARD
TZOFFSETFROM:+0000
TZOFFSETTO:+0000
TZNAME:UTC
DTSTART:20240101T000000
END:STANDARD
END:VTIMEZONE
BEGIN:VEVENT
DTSTART;TZID=UTC:20251110T173000
DTEND;TZID=UTC:20251110T173000
DTSTAMP:20260420T194141
CREATED:20250918T233323Z
LAST-MODIFIED:20250918T233323Z
UID:10000569-1762795800-1762795800@www.roserunpresbyterian.org
SUMMARY:Piano Recital
DESCRIPTION:
URL:https://www.roserunpresbyterian.org/event/piano-recital/
END:VEVENT
BEGIN:VEVENT
DTSTART;TZID=UTC:20251109T103000
DTEND;TZID=UTC:20251109T113000
DTSTAMP:20260420T194141
CREATED:20250918T161850Z
LAST-MODIFIED:20250918T171141Z
UID:10000008-1762684200-1762687800@www.roserunpresbyterian.org
SUMMARY:Worship
DESCRIPTION:
URL:https://www.roserunpresbyterian.org/event/worship/2025-11-09/
LOCATION:Rose Run Presbyterian Church\, 5220 Johnstown Road\, New Albany\, 43054\, United States
ATTACH;FMTTYPE=image/jpeg:https://www.roserunpresbyterian.org/wp-content/uploads/2025/09/tn-sanctuary-congregation.jpg
END:VEVENT
BEGIN:VEVENT
DTSTART;TZID=UTC:20251105T090000
DTEND;TZID=UTC:20251105T090000
DTSTAMP:20260420T194141
CREATED:20250918T233309Z
LAST-MODIFIED:20250918T233309Z
UID:10000567-1762333200-1762333200@www.roserunpresbyterian.org
SUMMARY:New Albany Realtors Association
DESCRIPTION:
URL:https://www.roserunpresbyterian.org/event/new-albany-realtors-association-7/
END:VEVENT
BEGIN:VEVENT
DTSTART;TZID=UTC:20251104T183000
DTEND;TZID=UTC:20251104T183000
DTSTAMP:20260420T194141
CREATED:20250918T233309Z
LAST-MODIFIED:20250918T233309Z
UID:10000566-1762281000-1762281000@www.roserunpresbyterian.org
SUMMARY:Session Meeting
DESCRIPTION:The monthly stated meeting of the Session of Rose Run Presbyterian\, which is the governing board of the local church.
URL:https://www.roserunpresbyterian.org/event/session-meeting-4/
END:VEVENT
BEGIN:VEVENT
DTSTART;TZID=UTC:20251104T093000
DTEND;TZID=UTC:20251104T093000
DTSTAMP:20260420T194141
CREATED:20250918T233309Z
LAST-MODIFIED:20250918T233309Z
UID:10000565-1762248600-1762248600@www.roserunpresbyterian.org
SUMMARY:Women's Bible Study
DESCRIPTION:
URL:https://www.roserunpresbyterian.org/event/womens-bible-study-3/
END:VEVENT
BEGIN:VEVENT
DTSTART;TZID=UTC:20251102T113000
DTEND;TZID=UTC:20251102T113000
DTSTAMP:20260420T194141
CREATED:20250918T233254Z
LAST-MODIFIED:20250918T233254Z
UID:10000563-1762083000-1762083000@www.roserunpresbyterian.org
SUMMARY:Pumpkin Hurl
DESCRIPTION:
URL:https://www.roserunpresbyterian.org/event/pumpkin-hurl/
END:VEVENT
BEGIN:VEVENT
DTSTART;TZID=UTC:20251102T103000
DTEND;TZID=UTC:20251102T113000
DTSTAMP:20260420T194141
CREATED:20250918T161850Z
LAST-MODIFIED:20250918T171141Z
UID:10000007-1762079400-1762083000@www.roserunpresbyterian.org
SUMMARY:Worship
DESCRIPTION:
URL:https://www.roserunpresbyterian.org/event/worship/2025-11-02/
LOCATION:Rose Run Presbyterian Church\, 5220 Johnstown Road\, New Albany\, 43054\, United States
ATTACH;FMTTYPE=image/jpeg:https://www.roserunpresbyterian.org/wp-content/uploads/2025/09/tn-sanctuary-congregation.jpg
END:VEVENT
BEGIN:VEVENT
DTSTART;TZID=UTC:20251026T113000
DTEND;TZID=UTC:20251026T113000
DTSTAMP:20260420T194141
CREATED:20250918T233253Z
LAST-MODIFIED:20250918T233253Z
UID:10000559-1761478200-1761478200@www.roserunpresbyterian.org
SUMMARY:Scottish Heritage Sunday- Chili Cook off
DESCRIPTION:
URL:https://www.roserunpresbyterian.org/event/scottish-heritage-sunday-chili-cook-off/
END:VEVENT
BEGIN:VEVENT
DTSTART;TZID=UTC:20251026T103000
DTEND;TZID=UTC:20251026T113000
DTSTAMP:20260420T194141
CREATED:20250918T161850Z
LAST-MODIFIED:20250918T171141Z
UID:10000006-1761474600-1761478200@www.roserunpresbyterian.org
SUMMARY:Worship
DESCRIPTION:
URL:https://www.roserunpresbyterian.org/event/worship/2025-10-26/
LOCATION:Rose Run Presbyterian Church\, 5220 Johnstown Road\, New Albany\, 43054\, United States
ATTACH;FMTTYPE=image/jpeg:https://www.roserunpresbyterian.org/wp-content/uploads/2025/09/tn-sanctuary-congregation.jpg
END:VEVENT
BEGIN:VEVENT
DTSTART;TZID=UTC:20251025T150000
DTEND;TZID=UTC:20251025T150000
DTSTAMP:20260420T194141
CREATED:20250918T233240Z
LAST-MODIFIED:20250918T233240Z
UID:10000557-1761404400-1761404400@www.roserunpresbyterian.org
SUMMARY:Trunk or Treat
DESCRIPTION:
URL:https://www.roserunpresbyterian.org/event/trunk-or-treat/
END:VEVENT
BEGIN:VEVENT
DTSTART;TZID=UTC:20251021T093000
DTEND;TZID=UTC:20251021T093000
DTSTAMP:20260420T194141
CREATED:20250918T233239Z
LAST-MODIFIED:20250918T233239Z
UID:10000556-1761039000-1761039000@www.roserunpresbyterian.org
SUMMARY:Women's Bible Study
DESCRIPTION:
URL:https://www.roserunpresbyterian.org/event/womens-bible-study-2/
END:VEVENT
BEGIN:VEVENT
DTSTART;TZID=UTC:20251019T103000
DTEND;TZID=UTC:20251019T113000
DTSTAMP:20260420T194141
CREATED:20250918T161850Z
LAST-MODIFIED:20250918T171141Z
UID:10000005-1760869800-1760873400@www.roserunpresbyterian.org
SUMMARY:Worship
DESCRIPTION:
URL:https://www.roserunpresbyterian.org/event/worship/2025-10-19/
LOCATION:Rose Run Presbyterian Church\, 5220 Johnstown Road\, New Albany\, 43054\, United States
ATTACH;FMTTYPE=image/jpeg:https://www.roserunpresbyterian.org/wp-content/uploads/2025/09/tn-sanctuary-congregation.jpg
END:VEVENT
BEGIN:VEVENT
DTSTART;TZID=UTC:20251017T190000
DTEND;TZID=UTC:20251017T190000
DTSTAMP:20260420T194141
CREATED:20250918T233223Z
LAST-MODIFIED:20250918T233223Z
UID:10000553-1760727600-1760727600@www.roserunpresbyterian.org
SUMMARY:Chamber Music Connection Concert
DESCRIPTION:Chamber Music Connection: where young musicians flourish”CMC is an inclusive community\, which accepts students of all levels without audition requirement\, that offers each musician the opportunity to grow in their ability while being inspired by other student musicians and professional artists.”
URL:https://www.roserunpresbyterian.org/event/chamber-music-connection-concert/
END:VEVENT
BEGIN:VEVENT
DTSTART;TZID=UTC:20251015T113000
DTEND;TZID=UTC:20251015T113000
DTSTAMP:20260420T194141
CREATED:20250918T233223Z
LAST-MODIFIED:20250918T233223Z
UID:10000552-1760527800-1760527800@www.roserunpresbyterian.org
SUMMARY:RRPC Lunch Bunch
DESCRIPTION:An informal gathering for members and friends of Rose Run Presbyterian to share a meal\, conversation\, and care. This free-form gathering (there is no formal agenda) is open to all. This is a chance to get acquainted with others in a very informal setting. each person places their own order and pays for themself.
URL:https://www.roserunpresbyterian.org/event/rrpc-lunch-bunch-2/
END:VEVENT
BEGIN:VEVENT
DTSTART;TZID=UTC:20251015T090000
DTEND;TZID=UTC:20251015T090000
DTSTAMP:20260420T194141
CREATED:20250918T233223Z
LAST-MODIFIED:20250918T233223Z
UID:10000551-1760518800-1760518800@www.roserunpresbyterian.org
SUMMARY:New Albany Realtors Association
DESCRIPTION:
URL:https://www.roserunpresbyterian.org/event/new-albany-realtors-association-6/
END:VEVENT
BEGIN:VEVENT
DTSTART;TZID=UTC:20251014T190000
DTEND;TZID=UTC:20251014T190000
DTSTAMP:20260420T194141
CREATED:20250918T233223Z
LAST-MODIFIED:20250918T233223Z
UID:10000550-1760468400-1760468400@www.roserunpresbyterian.org
SUMMARY:Deacons Meeting
DESCRIPTION:
URL:https://www.roserunpresbyterian.org/event/deacons-meeting-2/
END:VEVENT
BEGIN:VEVENT
DTSTART;TZID=UTC:20251012T103000
DTEND;TZID=UTC:20251012T113000
DTSTAMP:20260420T194141
CREATED:20250918T161850Z
LAST-MODIFIED:20250918T171141Z
UID:10000004-1760265000-1760268600@www.roserunpresbyterian.org
SUMMARY:Worship
DESCRIPTION:
URL:https://www.roserunpresbyterian.org/event/worship/2025-10-12/
LOCATION:Rose Run Presbyterian Church\, 5220 Johnstown Road\, New Albany\, 43054\, United States
ATTACH;FMTTYPE=image/jpeg:https://www.roserunpresbyterian.org/wp-content/uploads/2025/09/tn-sanctuary-congregation.jpg
END:VEVENT
BEGIN:VEVENT
DTSTART;TZID=UTC:20251008T183000
DTEND;TZID=UTC:20251008T183000
DTSTAMP:20260420T194141
CREATED:20250918T233208Z
LAST-MODIFIED:20250918T233208Z
UID:10000547-1759948200-1759948200@www.roserunpresbyterian.org
SUMMARY:Men of Rose Run
DESCRIPTION:
URL:https://www.roserunpresbyterian.org/event/men-of-rose-run/
END:VEVENT
BEGIN:VEVENT
DTSTART;TZID=UTC:20251008T090000
DTEND;TZID=UTC:20251008T090000
DTSTAMP:20260420T194141
CREATED:20250918T233208Z
LAST-MODIFIED:20250918T233208Z
UID:10000546-1759914000-1759914000@www.roserunpresbyterian.org
SUMMARY:New Albany Realtors Association
DESCRIPTION:
URL:https://www.roserunpresbyterian.org/event/new-albany-realtors-association-5/
END:VEVENT
BEGIN:VEVENT
DTSTART;TZID=UTC:20251007T183000
DTEND;TZID=UTC:20251007T203000
DTSTAMP:20260420T194141
CREATED:20250918T171749Z
LAST-MODIFIED:20250918T171749Z
UID:10000523-1759861800-1759869000@www.roserunpresbyterian.org
SUMMARY:Session Meeting
DESCRIPTION:When: Tuesday\, October 7\, 2025 @6:30pm – 8:30pm \nThe monthly stated meeting of the Session of Rose Run Presbyterian\, which is the governing board of the local church.
URL:https://www.roserunpresbyterian.org/event/session-meeting/
LOCATION:Rose Run Presbyterian Church\, 5220 Johnstown Road\, New Albany\, 43054\, United States
ATTACH;FMTTYPE=image/jpeg:https://www.roserunpresbyterian.org/wp-content/uploads/2025/09/tn-church-steeple.jpg
END:VEVENT
BEGIN:VEVENT
DTSTART;TZID=UTC:20251007T183000
DTEND;TZID=UTC:20251007T183000
DTSTAMP:20260420T194141
CREATED:20250918T233208Z
LAST-MODIFIED:20250918T233208Z
UID:10000545-1759861800-1759861800@www.roserunpresbyterian.org
SUMMARY:Session Meeting
DESCRIPTION:The monthly stated meeting of the Session of Rose Run Presbyterian\, which is the governing board of the local church.
URL:https://www.roserunpresbyterian.org/event/session-meeting-3/
END:VEVENT
BEGIN:VEVENT
DTSTART;TZID=UTC:20251007T093000
DTEND;TZID=UTC:20251007T093000
DTSTAMP:20260420T194141
CREATED:20250918T233207Z
LAST-MODIFIED:20250918T233207Z
UID:10000544-1759829400-1759829400@www.roserunpresbyterian.org
SUMMARY:Women's Bible Study
DESCRIPTION:
URL:https://www.roserunpresbyterian.org/event/womens-bible-study/
END:VEVENT
BEGIN:VEVENT
DTSTART;TZID=UTC:20251005T103000
DTEND;TZID=UTC:20251005T113000
DTSTAMP:20260420T194141
CREATED:20250918T161850Z
LAST-MODIFIED:20250918T171141Z
UID:10000003-1759660200-1759663800@www.roserunpresbyterian.org
SUMMARY:Worship
DESCRIPTION:
URL:https://www.roserunpresbyterian.org/event/worship/2025-10-05/
LOCATION:Rose Run Presbyterian Church\, 5220 Johnstown Road\, New Albany\, 43054\, United States
ATTACH;FMTTYPE=image/jpeg:https://www.roserunpresbyterian.org/wp-content/uploads/2025/09/tn-sanctuary-congregation.jpg
END:VEVENT
BEGIN:VEVENT
DTSTART;TZID=UTC:20251001T090000
DTEND;TZID=UTC:20251001T090000
DTSTAMP:20260420T194141
CREATED:20250918T233153Z
LAST-MODIFIED:20250918T233153Z
UID:10000541-1759309200-1759309200@www.roserunpresbyterian.org
SUMMARY:New Albany Realtors Association
DESCRIPTION:
URL:https://www.roserunpresbyterian.org/event/new-albany-realtors-association-4/
END:VEVENT
BEGIN:VEVENT
DTSTART;TZID=UTC:20250928T113000
DTEND;TZID=UTC:20250928T113000
DTSTAMP:20260420T194141
CREATED:20250918T233153Z
LAST-MODIFIED:20250918T233153Z
UID:10000539-1759059000-1759059000@www.roserunpresbyterian.org
SUMMARY:Fellowship-Small Group Study Program Review
DESCRIPTION:
URL:https://www.roserunpresbyterian.org/event/fellowship-small-group-study-program-review/
END:VEVENT
BEGIN:VEVENT
DTSTART;TZID=UTC:20250928T103000
DTEND;TZID=UTC:20250928T113000
DTSTAMP:20260420T194141
CREATED:20250918T161850Z
LAST-MODIFIED:20250918T171141Z
UID:10000002-1759055400-1759059000@www.roserunpresbyterian.org
SUMMARY:Worship
DESCRIPTION:
URL:https://www.roserunpresbyterian.org/event/worship/2025-09-28/
LOCATION:Rose Run Presbyterian Church\, 5220 Johnstown Road\, New Albany\, 43054\, United States
ATTACH;FMTTYPE=image/jpeg:https://www.roserunpresbyterian.org/wp-content/uploads/2025/09/tn-sanctuary-congregation.jpg
END:VEVENT
BEGIN:VEVENT
DTSTART;TZID=UTC:20250921T113000
DTEND;TZID=UTC:20250921T113000
DTSTAMP:20260420T194141
CREATED:20250918T233138Z
LAST-MODIFIED:20250918T233138Z
UID:10000536-1758454200-1758454200@www.roserunpresbyterian.org
SUMMARY:7 Year Church Anniversary Party
DESCRIPTION:
URL:https://www.roserunpresbyterian.org/event/7-year-church-anniversary-party/
END:VEVENT
BEGIN:VEVENT
DTSTART;TZID=UTC:20250921T103000
DTEND;TZID=UTC:20250921T113000
DTSTAMP:20260420T194141
CREATED:20250918T161850Z
LAST-MODIFIED:20250918T171141Z
UID:10000001-1758450600-1758454200@www.roserunpresbyterian.org
SUMMARY:Worship
DESCRIPTION:
URL:https://www.roserunpresbyterian.org/event/worship/2025-09-21/
LOCATION:Rose Run Presbyterian Church\, 5220 Johnstown Road\, New Albany\, 43054\, United States
ATTACH;FMTTYPE=image/jpeg:https://www.roserunpresbyterian.org/wp-content/uploads/2025/09/tn-sanctuary-congregation.jpg
END:VEVENT
BEGIN:VEVENT
DTSTART;TZID=UTC:20250917T113000
DTEND;TZID=UTC:20250917T130000
DTSTAMP:20260420T194141
CREATED:20250918T233137Z
LAST-MODIFIED:20250918T235027Z
UID:10000534-1758108600-1758114000@www.roserunpresbyterian.org
SUMMARY:RRPC Lunch Bunch
DESCRIPTION:An informal gathering for members and friends of Rose Run Presbyterian to share a meal\, conversation\, and care. This free-form gathering (there is no formal agenda) is open to all. This is a chance to get acquainted with others in a very informal setting. each person places their own order and pays for themself.
URL:https://www.roserunpresbyterian.org/event/rrpc-lunch-bunch/
END:VEVENT
BEGIN:VEVENT
DTSTART;TZID=UTC:20250917T090000
DTEND;TZID=UTC:20250917T100000
DTSTAMP:20260420T194141
CREATED:20250918T233123Z
LAST-MODIFIED:20250918T235021Z
UID:10000533-1758099600-1758103200@www.roserunpresbyterian.org
SUMMARY:New Albany Realtors Association
DESCRIPTION:
URL:https://www.roserunpresbyterian.org/event/new-albany-realtors-association-3/
END:VEVENT
END:VCALENDAR