BEGIN:VCALENDAR
VERSION:2.0
PRODID:-//Rose Run Presbyterian Church - ECPv6.15.17.1//NONSGML v1.0//EN
CALSCALE:GREGORIAN
METHOD:PUBLISH
X-WR-CALNAME:Rose Run Presbyterian Church
X-ORIGINAL-URL:https://www.roserunpresbyterian.org
X-WR-CALDESC:Events for Rose Run Presbyterian Church
REFRESH-INTERVAL;VALUE=DURATION:PT1H
X-Robots-Tag:noindex
X-PUBLISHED-TTL:PT1H
BEGIN:VTIMEZONE
TZID:UTC
BEGIN:STANDARD
TZOFFSETFROM:+0000
TZOFFSETTO:+0000
TZNAME:UTC
DTSTART:20250101T000000
END:STANDARD
END:VTIMEZONE
BEGIN:VEVENT
DTSTART;TZID=UTC:20261206T103000
DTEND;TZID=UTC:20261206T113000
DTSTAMP:20260420T055726
CREATED:20260409T144153Z
LAST-MODIFIED:20260409T144153Z
UID:10001006-1796553000-1796556600@www.roserunpresbyterian.org
SUMMARY:Second Sunday of Advent
DESCRIPTION:
URL:https://www.roserunpresbyterian.org/event/second-sunday-of-advent/
END:VEVENT
BEGIN:VEVENT
DTSTART;TZID=UTC:20261206T103000
DTEND;TZID=UTC:20261206T113000
DTSTAMP:20260420T055726
CREATED:20250918T161850Z
LAST-MODIFIED:20250918T171141Z
UID:10000064-1796553000-1796556600@www.roserunpresbyterian.org
SUMMARY:Worship
DESCRIPTION:
URL:https://www.roserunpresbyterian.org/event/worship/2026-12-06/
LOCATION:Rose Run Presbyterian Church\, 5220 Johnstown Road\, New Albany\, 43054\, United States
ATTACH;FMTTYPE=image/jpeg:https://www.roserunpresbyterian.org/wp-content/uploads/2025/09/tn-sanctuary-congregation.jpg
END:VEVENT
BEGIN:VEVENT
DTSTART;TZID=UTC:20261201T183000
DTEND;TZID=UTC:20261201T183000
DTSTAMP:20260420T055726
CREATED:20250918T234655Z
LAST-MODIFIED:20250918T234655Z
UID:10000724-1796149800-1796149800@www.roserunpresbyterian.org
SUMMARY:Session Meeting
DESCRIPTION:The monthly stated meeting of the Session of Rose Run Presbyterian\, which is the governing board of the local church.
URL:https://www.roserunpresbyterian.org/event/session-meeting-17/
END:VEVENT
BEGIN:VEVENT
DTSTART;TZID=UTC:20261129T113000
DTEND;TZID=UTC:20261129T133000
DTSTAMP:20260420T055726
CREATED:20260409T144056Z
LAST-MODIFIED:20260409T144056Z
UID:10001005-1795951800-1795959000@www.roserunpresbyterian.org
SUMMARY:Christmas Decorations Today!
DESCRIPTION:
URL:https://www.roserunpresbyterian.org/event/christmas-decorations-today/
END:VEVENT
BEGIN:VEVENT
DTSTART;TZID=UTC:20261129T113000
DTEND;TZID=UTC:20261129T130000
DTSTAMP:20260420T055726
CREATED:20260409T144000Z
LAST-MODIFIED:20260409T144000Z
UID:10001004-1795951800-1795957200@www.roserunpresbyterian.org
SUMMARY:First Sunday of Advent and Giving Tree
DESCRIPTION:
URL:https://www.roserunpresbyterian.org/event/first-sunday-of-advent-and-giving-tree/
END:VEVENT
BEGIN:VEVENT
DTSTART;TZID=UTC:20261129T103000
DTEND;TZID=UTC:20261129T113000
DTSTAMP:20260420T055726
CREATED:20250918T161850Z
LAST-MODIFIED:20250918T171141Z
UID:10000063-1795948200-1795951800@www.roserunpresbyterian.org
SUMMARY:Worship
DESCRIPTION:
URL:https://www.roserunpresbyterian.org/event/worship/2026-11-29/
LOCATION:Rose Run Presbyterian Church\, 5220 Johnstown Road\, New Albany\, 43054\, United States
ATTACH;FMTTYPE=image/jpeg:https://www.roserunpresbyterian.org/wp-content/uploads/2025/09/tn-sanctuary-congregation.jpg
END:VEVENT
BEGIN:VEVENT
DTSTART;TZID=UTC:20261122T103000
DTEND;TZID=UTC:20261122T113000
DTSTAMP:20260420T055726
CREATED:20250918T161850Z
LAST-MODIFIED:20250918T171141Z
UID:10000062-1795343400-1795347000@www.roserunpresbyterian.org
SUMMARY:Worship
DESCRIPTION:
URL:https://www.roserunpresbyterian.org/event/worship/2026-11-22/
LOCATION:Rose Run Presbyterian Church\, 5220 Johnstown Road\, New Albany\, 43054\, United States
ATTACH;FMTTYPE=image/jpeg:https://www.roserunpresbyterian.org/wp-content/uploads/2025/09/tn-sanctuary-congregation.jpg
END:VEVENT
BEGIN:VEVENT
DTSTART;TZID=UTC:20261118T113000
DTEND;TZID=UTC:20261118T113000
DTSTAMP:20260420T055726
CREATED:20250918T234454Z
LAST-MODIFIED:20250918T234454Z
UID:10000721-1795001400-1795001400@www.roserunpresbyterian.org
SUMMARY:RRPC Lunch Bunch
DESCRIPTION:An informal gathering for members and friends of Rose Run Presbyterian to share a meal\, conversation\, and care. This free-form gathering (there is no formal agenda) is open to all. This is a chance to get acquainted with others in a very informal setting. each person places their own order and pays for themself.
URL:https://www.roserunpresbyterian.org/event/rrpc-lunch-bunch-15/
END:VEVENT
BEGIN:VEVENT
DTSTART;TZID=UTC:20261115T103000
DTEND;TZID=UTC:20261115T113000
DTSTAMP:20260420T055726
CREATED:20250918T161850Z
LAST-MODIFIED:20250918T171141Z
UID:10000061-1794738600-1794742200@www.roserunpresbyterian.org
SUMMARY:Worship
DESCRIPTION:
URL:https://www.roserunpresbyterian.org/event/worship/2026-11-15/
LOCATION:Rose Run Presbyterian Church\, 5220 Johnstown Road\, New Albany\, 43054\, United States
ATTACH;FMTTYPE=image/jpeg:https://www.roserunpresbyterian.org/wp-content/uploads/2025/09/tn-sanctuary-congregation.jpg
END:VEVENT
BEGIN:VEVENT
DTSTART;TZID=UTC:20261110T190000
DTEND;TZID=UTC:20261110T190000
DTSTAMP:20260420T055726
CREATED:20250918T234454Z
LAST-MODIFIED:20250918T234454Z
UID:10000719-1794337200-1794337200@www.roserunpresbyterian.org
SUMMARY:Deacons Meeting
DESCRIPTION:
URL:https://www.roserunpresbyterian.org/event/deacons-meeting-15/
END:VEVENT
BEGIN:VEVENT
DTSTART;TZID=UTC:20261108T103000
DTEND;TZID=UTC:20261108T113000
DTSTAMP:20260420T055726
CREATED:20250918T161850Z
LAST-MODIFIED:20250918T171141Z
UID:10000060-1794133800-1794137400@www.roserunpresbyterian.org
SUMMARY:Worship
DESCRIPTION:
URL:https://www.roserunpresbyterian.org/event/worship/2026-11-08/
LOCATION:Rose Run Presbyterian Church\, 5220 Johnstown Road\, New Albany\, 43054\, United States
ATTACH;FMTTYPE=image/jpeg:https://www.roserunpresbyterian.org/wp-content/uploads/2025/09/tn-sanctuary-congregation.jpg
END:VEVENT
BEGIN:VEVENT
DTSTART;TZID=UTC:20261103T183000
DTEND;TZID=UTC:20261103T183000
DTSTAMP:20260420T055726
CREATED:20250918T234418Z
LAST-MODIFIED:20250918T234418Z
UID:10000717-1793730600-1793730600@www.roserunpresbyterian.org
SUMMARY:Session Meeting
DESCRIPTION:The monthly stated meeting of the Session of Rose Run Presbyterian\, which is the governing board of the local church.
URL:https://www.roserunpresbyterian.org/event/session-meeting-16/
END:VEVENT
BEGIN:VEVENT
DTSTART;TZID=UTC:20261101T113000
DTEND;TZID=UTC:20261101T133000
DTSTAMP:20260420T055727
CREATED:20260409T143854Z
LAST-MODIFIED:20260409T143854Z
UID:10001003-1793532600-1793539800@www.roserunpresbyterian.org
SUMMARY:All Saints Day and Pumpkin Hurl
DESCRIPTION:
URL:https://www.roserunpresbyterian.org/event/all-saints-day-and-pumpkin-hurl/
END:VEVENT
BEGIN:VEVENT
DTSTART;TZID=UTC:20261101T103000
DTEND;TZID=UTC:20261101T113000
DTSTAMP:20260420T055727
CREATED:20250918T161850Z
LAST-MODIFIED:20250918T171141Z
UID:10000059-1793529000-1793532600@www.roserunpresbyterian.org
SUMMARY:Worship
DESCRIPTION:
URL:https://www.roserunpresbyterian.org/event/worship/2026-11-01/
LOCATION:Rose Run Presbyterian Church\, 5220 Johnstown Road\, New Albany\, 43054\, United States
ATTACH;FMTTYPE=image/jpeg:https://www.roserunpresbyterian.org/wp-content/uploads/2025/09/tn-sanctuary-congregation.jpg
END:VEVENT
BEGIN:VEVENT
DTSTART;TZID=UTC:20261025T113000
DTEND;TZID=UTC:20261025T130000
DTSTAMP:20260420T055727
CREATED:20260409T143756Z
LAST-MODIFIED:20260409T143756Z
UID:10001002-1792927800-1792933200@www.roserunpresbyterian.org
SUMMARY:Chili Cook-Off - Fellowship Hall
DESCRIPTION:
URL:https://www.roserunpresbyterian.org/event/chili-cook-off-fellowship-hall/
END:VEVENT
BEGIN:VEVENT
DTSTART;TZID=UTC:20261025T103000
DTEND;TZID=UTC:20261025T113000
DTSTAMP:20260420T055727
CREATED:20260409T143659Z
LAST-MODIFIED:20260409T143659Z
UID:10001001-1792924200-1792927800@www.roserunpresbyterian.org
SUMMARY:Scottish Heritage Sunday - Sanctuary
DESCRIPTION:
URL:https://www.roserunpresbyterian.org/event/scottish-heritage-sunday-sanctuary/
END:VEVENT
BEGIN:VEVENT
DTSTART;TZID=UTC:20261025T103000
DTEND;TZID=UTC:20261025T113000
DTSTAMP:20260420T055727
CREATED:20250918T161850Z
LAST-MODIFIED:20250918T171141Z
UID:10000058-1792924200-1792927800@www.roserunpresbyterian.org
SUMMARY:Worship
DESCRIPTION:
URL:https://www.roserunpresbyterian.org/event/worship/2026-10-25/
LOCATION:Rose Run Presbyterian Church\, 5220 Johnstown Road\, New Albany\, 43054\, United States
ATTACH;FMTTYPE=image/jpeg:https://www.roserunpresbyterian.org/wp-content/uploads/2025/09/tn-sanctuary-congregation.jpg
END:VEVENT
BEGIN:VEVENT
DTSTART;VALUE=DATE:20261024
DTEND;VALUE=DATE:20261025
DTSTAMP:20260420T055727
CREATED:20260409T143602Z
LAST-MODIFIED:20260409T143602Z
UID:10001000-1792800000-1792886399@www.roserunpresbyterian.org
SUMMARY:New Albany Trunk or Treat - Bevelhymer Park
DESCRIPTION:
URL:https://www.roserunpresbyterian.org/event/new-albany-trunk-or-treat-bevelhymer-park/
END:VEVENT
BEGIN:VEVENT
DTSTART;TZID=UTC:20261021T113000
DTEND;TZID=UTC:20261021T113000
DTSTAMP:20260420T055727
CREATED:20250918T234418Z
LAST-MODIFIED:20250918T234418Z
UID:10000714-1792582200-1792582200@www.roserunpresbyterian.org
SUMMARY:RRPC Lunch Bunch
DESCRIPTION:An informal gathering for members and friends of Rose Run Presbyterian to share a meal\, conversation\, and care. This free-form gathering (there is no formal agenda) is open to all. This is a chance to get acquainted with others in a very informal setting. each person places their own order and pays for themself.
URL:https://www.roserunpresbyterian.org/event/rrpc-lunch-bunch-14/
END:VEVENT
BEGIN:VEVENT
DTSTART;TZID=UTC:20261018T103000
DTEND;TZID=UTC:20261018T113000
DTSTAMP:20260420T055727
CREATED:20260408T195208Z
LAST-MODIFIED:20260408T195208Z
UID:10000999-1792319400-1792323000@www.roserunpresbyterian.org
SUMMARY:Bibles for Students Sunday
DESCRIPTION:
URL:https://www.roserunpresbyterian.org/event/bibles-for-students-sunday/
END:VEVENT
BEGIN:VEVENT
DTSTART;TZID=UTC:20261018T103000
DTEND;TZID=UTC:20261018T113000
DTSTAMP:20260420T055727
CREATED:20250918T161850Z
LAST-MODIFIED:20250918T171141Z
UID:10000057-1792319400-1792323000@www.roserunpresbyterian.org
SUMMARY:Worship
DESCRIPTION:
URL:https://www.roserunpresbyterian.org/event/worship/2026-10-18/
LOCATION:Rose Run Presbyterian Church\, 5220 Johnstown Road\, New Albany\, 43054\, United States
ATTACH;FMTTYPE=image/jpeg:https://www.roserunpresbyterian.org/wp-content/uploads/2025/09/tn-sanctuary-congregation.jpg
END:VEVENT
BEGIN:VEVENT
DTSTART;TZID=UTC:20261013T190000
DTEND;TZID=UTC:20261013T190000
DTSTAMP:20260420T055727
CREATED:20250918T234403Z
LAST-MODIFIED:20250918T234403Z
UID:10000712-1791918000-1791918000@www.roserunpresbyterian.org
SUMMARY:Deacons Meeting
DESCRIPTION:
URL:https://www.roserunpresbyterian.org/event/deacons-meeting-14/
END:VEVENT
BEGIN:VEVENT
DTSTART;TZID=UTC:20261011T103000
DTEND;TZID=UTC:20261011T113000
DTSTAMP:20260420T055727
CREATED:20250918T161850Z
LAST-MODIFIED:20250918T171141Z
UID:10000056-1791714600-1791718200@www.roserunpresbyterian.org
SUMMARY:Worship
DESCRIPTION:
URL:https://www.roserunpresbyterian.org/event/worship/2026-10-11/
LOCATION:Rose Run Presbyterian Church\, 5220 Johnstown Road\, New Albany\, 43054\, United States
ATTACH;FMTTYPE=image/jpeg:https://www.roserunpresbyterian.org/wp-content/uploads/2025/09/tn-sanctuary-congregation.jpg
END:VEVENT
BEGIN:VEVENT
DTSTART;TZID=UTC:20261006T183000
DTEND;TZID=UTC:20261006T183000
DTSTAMP:20260420T055727
CREATED:20250918T234403Z
LAST-MODIFIED:20250918T234403Z
UID:10000710-1791311400-1791311400@www.roserunpresbyterian.org
SUMMARY:Session Meeting
DESCRIPTION:The monthly stated meeting of the Session of Rose Run Presbyterian\, which is the governing board of the local church.
URL:https://www.roserunpresbyterian.org/event/session-meeting-15/
END:VEVENT
BEGIN:VEVENT
DTSTART;TZID=UTC:20261004T103000
DTEND;TZID=UTC:20261004T113000
DTSTAMP:20260420T055727
CREATED:20250918T161850Z
LAST-MODIFIED:20250918T171141Z
UID:10000055-1791109800-1791113400@www.roserunpresbyterian.org
SUMMARY:Worship
DESCRIPTION:
URL:https://www.roserunpresbyterian.org/event/worship/2026-10-04/
LOCATION:Rose Run Presbyterian Church\, 5220 Johnstown Road\, New Albany\, 43054\, United States
ATTACH;FMTTYPE=image/jpeg:https://www.roserunpresbyterian.org/wp-content/uploads/2025/09/tn-sanctuary-congregation.jpg
END:VEVENT
BEGIN:VEVENT
DTSTART;TZID=UTC:20260927T103000
DTEND;TZID=UTC:20260927T113000
DTSTAMP:20260420T055727
CREATED:20250918T161850Z
LAST-MODIFIED:20250918T171141Z
UID:10000054-1790505000-1790508600@www.roserunpresbyterian.org
SUMMARY:Worship
DESCRIPTION:
URL:https://www.roserunpresbyterian.org/event/worship/2026-09-27/
LOCATION:Rose Run Presbyterian Church\, 5220 Johnstown Road\, New Albany\, 43054\, United States
ATTACH;FMTTYPE=image/jpeg:https://www.roserunpresbyterian.org/wp-content/uploads/2025/09/tn-sanctuary-congregation.jpg
END:VEVENT
BEGIN:VEVENT
DTSTART;TZID=UTC:20260920T113000
DTEND;TZID=UTC:20260920T133000
DTSTAMP:20260420T055727
CREATED:20260408T194829Z
LAST-MODIFIED:20260408T194829Z
UID:10000998-1789903800-1789911000@www.roserunpresbyterian.org
SUMMARY:RRPC Anniversary Party
DESCRIPTION:
URL:https://www.roserunpresbyterian.org/event/rrpc-anniversary-party/
END:VEVENT
BEGIN:VEVENT
DTSTART;TZID=UTC:20260920T103000
DTEND;TZID=UTC:20260920T113000
DTSTAMP:20260420T055727
CREATED:20250918T161850Z
LAST-MODIFIED:20250918T171141Z
UID:10000053-1789900200-1789903800@www.roserunpresbyterian.org
SUMMARY:Worship
DESCRIPTION:
URL:https://www.roserunpresbyterian.org/event/worship/2026-09-20/
LOCATION:Rose Run Presbyterian Church\, 5220 Johnstown Road\, New Albany\, 43054\, United States
ATTACH;FMTTYPE=image/jpeg:https://www.roserunpresbyterian.org/wp-content/uploads/2025/09/tn-sanctuary-congregation.jpg
END:VEVENT
BEGIN:VEVENT
DTSTART;TZID=UTC:20260916T113000
DTEND;TZID=UTC:20260916T113000
DTSTAMP:20260420T055727
CREATED:20250918T234205Z
LAST-MODIFIED:20250918T234205Z
UID:10000706-1789558200-1789558200@www.roserunpresbyterian.org
SUMMARY:RRPC Lunch Bunch
DESCRIPTION:An informal gathering for members and friends of Rose Run Presbyterian to share a meal\, conversation\, and care. This free-form gathering (there is no formal agenda) is open to all. This is a chance to get acquainted with others in a very informal setting. each person places their own order and pays for themself.
URL:https://www.roserunpresbyterian.org/event/rrpc-lunch-bunch-13/
END:VEVENT
BEGIN:VEVENT
DTSTART;TZID=UTC:20260913T120000
DTEND;TZID=UTC:20260913T200000
DTSTAMP:20260420T055727
CREATED:20260408T193037Z
LAST-MODIFIED:20260408T193037Z
UID:10000994-1789300800-1789329600@www.roserunpresbyterian.org
SUMMARY:Tentative Private Event - Sanctuary
DESCRIPTION:
URL:https://www.roserunpresbyterian.org/event/tentative-private-event-sanctuary/
END:VEVENT
END:VCALENDAR