BEGIN:VCALENDAR
VERSION:2.0
PRODID:-//Rose Run Presbyterian Church - ECPv6.15.17.1//NONSGML v1.0//EN
CALSCALE:GREGORIAN
METHOD:PUBLISH
X-WR-CALNAME:Rose Run Presbyterian Church
X-ORIGINAL-URL:https://www.roserunpresbyterian.org
X-WR-CALDESC:Events for Rose Run Presbyterian Church
REFRESH-INTERVAL;VALUE=DURATION:PT1H
X-Robots-Tag:noindex
X-PUBLISHED-TTL:PT1H
BEGIN:VTIMEZONE
TZID:UTC
BEGIN:STANDARD
TZOFFSETFROM:+0000
TZOFFSETTO:+0000
TZNAME:UTC
DTSTART:20240101T000000
END:STANDARD
END:VTIMEZONE
BEGIN:VEVENT
DTSTART;TZID=UTC:20250909T190000
DTEND;TZID=UTC:20250909T200000
DTSTAMP:20260421T154013
CREATED:20250918T233122Z
LAST-MODIFIED:20250918T234902Z
UID:10000529-1757444400-1757448000@www.roserunpresbyterian.org
SUMMARY:Deacons Meeting
DESCRIPTION:
URL:https://www.roserunpresbyterian.org/event/deacons-meeting/
END:VEVENT
BEGIN:VEVENT
DTSTART;TZID=UTC:20250909T183000
DTEND;TZID=UTC:20250909T203000
DTSTAMP:20260421T154013
CREATED:20250918T233119Z
LAST-MODIFIED:20250918T234854Z
UID:10000528-1757442600-1757449800@www.roserunpresbyterian.org
SUMMARY:Session Meeting
DESCRIPTION:The monthly stated meeting of the Session of Rose Run Presbyterian\, which is the governing board of the local church.
URL:https://www.roserunpresbyterian.org/event/session-meeting-2/
END:VEVENT
BEGIN:VEVENT
DTSTART;TZID=UTC:20250903T090000
DTEND;TZID=UTC:20250903T100000
DTSTAMP:20260421T154013
CREATED:20250918T233119Z
LAST-MODIFIED:20250918T234610Z
UID:10000525-1756890000-1756893600@www.roserunpresbyterian.org
SUMMARY:New Albany Realtors Association
DESCRIPTION:
URL:https://www.roserunpresbyterian.org/event/new-albany-realtors-association/
END:VEVENT
END:VCALENDAR